BEGIN:VCALENDAR
VERSION:2.0
PRODID:-//Squarespace Inc/Squarespace 6//v6//EN
BEGIN:VEVENT
UID:59267f5dc534a59e6987684c@squarespace.com
DTSTAMP:20170525T065431Z
DTSTART:20170528T140000Z
DTEND:20170529T013000Z
SUMMARY:International Burger Day
END:VEVENT
END:VCALENDAR
