BEGIN:VCALENDAR
VERSION:2.0
PRODID:-//Squarespace Inc/Squarespace 6//v6//EN
BEGIN:VEVENT
UID:591ce42337c581ab8ec04a8c@squarespace.com
DTSTAMP:20170518T014458Z
DTSTART:20170520T140000Z
DTEND:20170522T013000Z
SUMMARY:Burgled Carrums 2nd Birthday
GEO:-38.075206;145.122977
LOCATION:Burgled Carrum\, 501A Station St\, Carrum VIC 3197\, Australia
END:VEVENT
END:VCALENDAR
